BEGIN:VCALENDAR
VERSION:2.0
PRODID:-//Tukios.com/
BEGIN:VEVENT
UID:d0979d42-514e-4c05-8ca8-47b22362a130@www.goldengatefuneralhome.com
DTSTAMP:20260424T224700Z
DTSTART:20260502T160000Z
DTEND:20260502T170000Z
SUMMARY:Funeral for WILBERT GENE MONK
DESCRIPTION:
URL:https://www.goldengatefuneralhome.com/obituaries/wilbert-monk
LOCATION:ALPHA AND OMEGA MINISTRIES 4255 South R. L. Thornton Freeway  
	Dallas TX 75224
GEO:32.693159;-96.8240462
END:VEVENT
END:VCALENDAR