BEGIN:VCALENDAR
VERSION:2.0
PRODID:-//Tukios.com/
BEGIN:VEVENT
UID:bb9ce985-ca9e-4bd4-bd3d-a52787d60bc1@www.goldengatefuneralhome.com
DTSTAMP:20260424T224700Z
DTSTART:20260501T170000Z
DTEND:20260502T000000Z
SUMMARY:Viewing for WILBERT GENE MONK
DESCRIPTION:
URL:https://www.goldengatefuneralhome.com/obituaries/wilbert-monk
LOCATION:Golden Gate Funeral Home - Dallas 4155 S R. L. Thornton Fwy  
	Dallas TX 75224
GEO:32.6945504;-96.8242937
END:VEVENT
END:VCALENDAR