BEGIN:VCALENDAR
VERSION:2.0
PRODID:-//Tukios.com/
BEGIN:VEVENT
UID:80f3fe40-398d-4b97-a03d-812dbd96fab1@www.goldengatefuneralhome.com
DTSTAMP:20260424T224201Z
DTSTART:20260502
SUMMARY:Burial for WILBERT GENE MONK
DESCRIPTION:
URL:https://www.goldengatefuneralhome.com/obituaries/wilbert-monk
LOCATION:Mountain Creek Cemetery 2099 Hardy Road  Grand Prairie TX 75051
GEO:32.7158731;-96.9791886
END:VEVENT
END:VCALENDAR