BEGIN:VCALENDAR
VERSION:2.0
PRODID:-//Tukios.com/
BEGIN:VEVENT
UID:1a4addb6-5e77-40ad-a328-45053dc30cc2@www.goldengatefuneralhome.com
DTSTAMP:20260422T004134Z
DTSTART:20260501T180000Z
DTEND:20260501T210000Z
SUMMARY:Viewing for WILLIE JAMES MITCHELL
DESCRIPTION:
URL:https://www.goldengatefuneralhome.com/obituaries/willie-james-mitchell
LOCATION:Golden Gate Funeral Home - Ft. Worth 5701 East Loop 820 South  
	Fort Worth TX 76119
GEO:32.6736859;-97.2395395
END:VEVENT
END:VCALENDAR