BEGIN:VCALENDAR
VERSION:2.0
PRODID:-//Tukios.com/
BEGIN:VEVENT
UID:bbdafbd6-cb6c-46bb-bc9e-ab5397235a08@www.goldengatefuneralhome.com
DTSTAMP:20260422T003817Z
DTSTART:20260502T170000Z
DTEND:20260502T180000Z
SUMMARY:Funeral for WILLIE JAMES MITCHELL
DESCRIPTION:
URL:https://www.goldengatefuneralhome.com/obituaries/willie-james-mitchell
LOCATION:SOUTH FORT WORTH BAPTIST FELLOWSHIP 875 McPherson Road  Fort 
	Worth TX 76140
GEO:32.6045982;-97.3041138
END:VEVENT
END:VCALENDAR